BEGIN:VCALENDAR
VERSION:2.0
PRODID:-//Art &amp; Design District Palma - ECPv6.15.20//NONSGML v1.0//EN
CALSCALE:GREGORIAN
METHOD:PUBLISH
X-WR-CALNAME:Art &amp; Design District Palma
X-ORIGINAL-URL:https://artdistrictpalma.com
X-WR-CALDESC:Events for Art &amp; Design District Palma
REFRESH-INTERVAL;VALUE=DURATION:PT1H
X-Robots-Tag:noindex
X-PUBLISHED-TTL:PT1H
BEGIN:VTIMEZONE
TZID:UTC
BEGIN:STANDARD
TZOFFSETFROM:+0000
TZOFFSETTO:+0000
TZNAME:UTC
DTSTART:20230101T000000
END:STANDARD
END:VTIMEZONE
BEGIN:VTIMEZONE
TZID:Europe/Paris
BEGIN:DAYLIGHT
TZOFFSETFROM:+0100
TZOFFSETTO:+0200
TZNAME:CEST
DTSTART:20230326T010000
END:DAYLIGHT
BEGIN:STANDARD
TZOFFSETFROM:+0200
TZOFFSETTO:+0100
TZNAME:CET
DTSTART:20231029T010000
END:STANDARD
BEGIN:DAYLIGHT
TZOFFSETFROM:+0100
TZOFFSETTO:+0200
TZNAME:CEST
DTSTART:20240331T010000
END:DAYLIGHT
BEGIN:STANDARD
TZOFFSETFROM:+0200
TZOFFSETTO:+0100
TZNAME:CET
DTSTART:20241027T010000
END:STANDARD
BEGIN:DAYLIGHT
TZOFFSETFROM:+0100
TZOFFSETTO:+0200
TZNAME:CEST
DTSTART:20250330T010000
END:DAYLIGHT
BEGIN:STANDARD
TZOFFSETFROM:+0200
TZOFFSETTO:+0100
TZNAME:CET
DTSTART:20251026T010000
END:STANDARD
END:VTIMEZONE
BEGIN:VEVENT
DTSTART;TZID=UTC:20250322T180000
DTEND;TZID=UTC:20250322T233000
DTSTAMP:20260421T164005
CREATED:20241230T094241Z
LAST-MODIFIED:20250411T073233Z
UID:2653-1742666400-1742686200@artdistrictpalma.com
SUMMARY:Gary Hill Opening
DESCRIPTION:Carrer de Siquier\, 24 – Palma\, 07007 \n\n\n\n\n\n\nGary Hill has tagged the exhibition Loop Through\, referring to a singular work as well as being suggestive of a path or circuit from which to experience the selected works.  \nAfter Loop Through: A conversation with Gary Hill (June 6th 2024) and Loop Through: Isolation Tank & Mediations\, (June 21st 2024)\, on March 22nd\, the doors of the whole District will open with selected installations during the celebration of the third edition of the Paella Fest on the streets of La Soledad.  \n\n\n\n\n\nGary Hill ha nombrado la exposición Loop Through\, en referencia a una obra individual\, a la vez sugerente de un camino o circuito desde el que experimentar las obras seleccionadas. \nTras Loop Through: Una conversación con Gary Hill (6 de Junio 2024) y Loop Through: Isolation Tank & Mediations\, (21 de Junio 2024)\, el 22 de Marzo se abrirán las puertas de todo el Distrito con instalaciones seleccionadas durante la celebración de la tercera edición del Paella Fest en las calles de La Soledad.  \n\n\n\n\n\nGary Hill ha nomenat l’exposició Loop Through\, en referència a una obra individual\, alhora suggeridora d’un camí o circuit des del qual experimentar les obres seleccionades de l’artista. \nDesprés de Loop Through: Una conversa amb Gary Hill (6 de Juny 2024) i Loop Through: Isolation Tank & Mediations\, (21 de Juny 2024)\, el 22 de Març s’obriran les portes de tot el Districte amb instal·lacions seleccionades durant la celebració de la tercera edició del Paella Fest als carrers de La Soledat.
URL:https://artdistrictpalma.com/event/gary-hill-paella-fest-iii/
LOCATION:La Soledart\, Carrer de Siquier\, 24\, Palma\, 07007\, Spain
CATEGORIES:Exhibition,Loop Through
ATTACH;FMTTYPE=image/png:https://artdistrictpalma.com/wp-content/uploads/2024/06/Plantilla-Website-Events-Featured-Image.png
END:VEVENT
BEGIN:VEVENT
DTSTART;TZID=UTC:20250224T193000
DTEND;TZID=UTC:20250224T233000
DTSTAMP:20260421T164005
CREATED:20250214T094953Z
LAST-MODIFIED:20250214T104512Z
UID:2683-1740425400-1740439800@artdistrictpalma.com
SUMMARY:Chez Mahrez\, The Dinner
DESCRIPTION:Every Monday\, Chef Mahrez presents a live culinary masterpiece on his cooking show at La Soledad Radio\, revealing the artistry behind gourmet cuisine. As he crafts each dish\, listeners and viewers are guided through every meticulous step\, uncovering techniques and hidden secrets of haute cuisine. \nIndulge in the experience\, elevate your palate\, and immerse yourself in an evening where gastronomy and entertainment converge in perfect harmony. \nAfter the show\, guests with advanced tickets will have the exclusive opportunity to taste and dine on the chef’s creations in one of the spaces of Art & Design District Palma—a true culinary journey that brings the show to life. \n\n\n\n\n\nCada lunes\, el Chef Mahrez presenta una obra culinaria en vivo en su programa de cocina en La Soledad Radio\, revelando el arte detrás de la cocina gourmet. Mientras elabora cada plato\, los oyentes y espectadores son guiados a través de cada meticuloso paso\, descubriendo técnicas y secretos ocultos de la alta cocina. \nDisfruta de la experiencia\, eleva tu paladar y sumérgete en una noche donde la gastronomía y el entretenimiento convergen en perfecta armonía. \nDespués del programa\, los invitados con entradas anticipadas tendrán la oportunidad exclusiva de degustar y cenar las creaciones del chef en uno de los espacios de Art & Design District Palma\, un verdadero viaje culinario que da vida al programa. \n\n\n\n\n\nCada dilluns\, el Xef Mahrez presenta una obra culinària en viu al el seu programa de cuina a La Soledat Ràdio\, revelant l’art darrera la cuina gurmet. Mentre elabora cada plat\, els oients i espectadors són guiats a través de cada meticulós pas\, descobrint tècniques i secrets ocults de l’alta cuina. \nGaudeix de l’experiència\, eleva el teu paladar i submergeix-te en una nit on la gastronomia i l’entreteniment convergeixen en perfecta harmonia. \nDesprés del programa\, els convidats amb entrades anticipades tindran l’oportunitat exclusiva de degustar i sopar les creacions del xef en un dels espais d’Art & Design District Palma\, un viatge culinari que dona vida al programa.
URL:https://artdistrictpalma.com/event/chez-mahrez-the-dinner/
CATEGORIES:Dinner,La Soledad Radio,Rooftop
ATTACH;FMTTYPE=image/png:https://artdistrictpalma.com/wp-content/uploads/2025/02/Plantilla-Website-Events-Featured-Image-3.png
END:VEVENT
BEGIN:VEVENT
DTSTART;TZID=UTC:20240819T200000
DTEND;TZID=UTC:20240819T235900
DTSTAMP:20260421T164005
CREATED:20240701T133206Z
LAST-MODIFIED:20240819T101759Z
UID:1760-1724097600-1724111940@artdistrictpalma.com
SUMMARY:Moon Fest Tickets
DESCRIPTION:Carrer de Siquier\, 24 – Palma\, 07007 \n\n\n\n\n\n\nIn collaboration with Clandestí Taller Gastronòmic\, Art & Design District Palma offers a unique experience under the full moon for those who want to enjoy gastronomy\, music\, and art. \nThe menu includes a selection of dishes made by Pau Navarro\, and a large variety of wines. \nIt is a private event with a few seats. Don’t forget to buy your ticket before they are sold out!  \n\n\n\n\n\nDe la mano de Clandestí Taller Gastronòmic\, Art & Design District Palma ofrece una experiencia única bajo la luna llena para aquellos que quieran disfrutar de la gastronomía\, la música y el arte.  \nEl menú incluye una selección de platos hechos por Pau Navarro\, y una gran variedad de vinos.  \nEl evento es privado y cuenta con un número reducido de plazas. No olvides comprar tu ticket antes de que se agoten!  \n\n\n\n\n\nDe la mà de Clandestí Taller Gastronòmic\, Art & Design District Palma ofereix una experiència única per a aquells que vulguin gaudir de la gastronomia\, la música i l’art. \nEl menú inclou una selecció de plats elaborats per Pau Navarro\, i una gran varietat de vins. \nL’esdeveniment és privat i té un nombre de places limitades. No oblidis comprar el teu tiquet abans que s’esgotin. \n\n\n\n\n\n\n\n\n\n\n\nTickets will only be refunded if the event is cancelled by the promoter.If for any personal reason you are unable to attend the event\, we unfortunately cannot guarantee the refund of your tickets.
URL:https://artdistrictpalma.com/event/moon-fest-tickets/
CATEGORIES:Moon Fest,Rooftop
ATTACH;FMTTYPE=image/png:https://artdistrictpalma.com/wp-content/uploads/2024/07/Plantilla-Website-Events-Featured-Image-5.png
END:VEVENT
BEGIN:VEVENT
DTSTART;TZID=UTC:20240706T200000
DTEND;TZID=UTC:20240706T233000
DTSTAMP:20260421T164005
CREATED:20240703T162631Z
LAST-MODIFIED:20240703T162634Z
UID:1795-1720296000-1720308600@artdistrictpalma.com
SUMMARY:Rooftop Party
DESCRIPTION:Carrer de Siquier\, 24 – Palma\, 07007
URL:https://artdistrictpalma.com/event/rooftop-party/
CATEGORIES:Rooftop
ATTACH;FMTTYPE=image/png:https://artdistrictpalma.com/wp-content/uploads/2024/07/Plantilla-Website-Events-Featured-Image-5.png
END:VEVENT
BEGIN:VEVENT
DTSTART;TZID=UTC:20240705T200000
DTEND;TZID=UTC:20240705T233000
DTSTAMP:20260421T164005
CREATED:20240703T161833Z
LAST-MODIFIED:20240703T162358Z
UID:1786-1720209600-1720222200@artdistrictpalma.com
SUMMARY:Rooftop Party
DESCRIPTION:Carrer de Siquier\, 24 – Palma\, 07007
URL:https://artdistrictpalma.com/event/after-game-party/
CATEGORIES:Rooftop
ATTACH;FMTTYPE=image/png:https://artdistrictpalma.com/wp-content/uploads/2024/07/Plantilla-Website-Events-Featured-Image-5.png
END:VEVENT
BEGIN:VEVENT
DTSTART;TZID=Europe/Paris:20240621T203000
DTEND;TZID=Europe/Paris:20240621T233000
DTSTAMP:20260421T164005
CREATED:20240611T150848Z
LAST-MODIFIED:20240621T055803Z
UID:1477-1719001800-1719012600@artdistrictpalma.com
SUMMARY:Rooftop Party
DESCRIPTION:Carrer de Siquier\, 24 – Palma\, 07007 \n\n\n\n\n\n\nMark your calendars for June 21st\, following the first part of the opening of Gary Hill’s – Loop Through. \nJoin us as we open the gates of the rooftop\, inviting you to revel in an evening of fine wines\, handcrafted cocktails\, homemade dishes\, and soulful music set under the sunset light\, by the hand of Art Culinary District.  \n\n\n\n\n\nGuarda la fecha para este 21 de junio\, tras la primera parte inaugural de Loop Through de Gary Hill. \nÚnete a nosotros mientras abrimos las puertas de la azotea\, invitándote a disfrutar de una noche de vinos\, cócteles artesanales\, platos caseros y música ambientada bajo la luz del atardecer\, de la mano de Art Culinary District. \n\n\n\n\n\nReserva’t el 21 de juny\, just després de la primera part inaugural de Loop Through de Gary Hill.Uneix-te a nosaltres mentre obrim les portes de la terrassa\, convidant-te a gaudir d’una nit de vins\, còctels artesanals\, plats casolans i música ambientada sota la llum de la posta de sol\, de la mà d’Art Culinary District.
URL:https://artdistrictpalma.com/event/rooftop-party-loop-through/
LOCATION:Carrer de Siquier 24
CATEGORIES:Loop Through,Rooftop
ATTACH;FMTTYPE=image/png:https://artdistrictpalma.com/wp-content/uploads/2024/06/Plantilla-Website-Events-Featured-Image-2.png
END:VEVENT
BEGIN:VEVENT
DTSTART;TZID=UTC:20240606T190000
DTEND;TZID=UTC:20240606T230000
DTSTAMP:20260421T164005
CREATED:20240513T122844Z
LAST-MODIFIED:20240604T112950Z
UID:1229-1717700400-1717714800@artdistrictpalma.com
SUMMARY:Rooftop Sunset
DESCRIPTION:Join us on the rooftop for a drink from 7 to 11 pm. \nFrom 9pm\, we will be engaging in a meeting with the pioneering video artist Gary Hill \nDue to the limited capacity of the rooftop\, remember to get your ticket before they run out! \nIf you can’t attend\, please let us know so we can release the ticket so another person can take it. 
URL:https://artdistrictpalma.com/event/rooftop-cocktail/
ATTACH;FMTTYPE=image/jpeg:https://artdistrictpalma.com/wp-content/uploads/2024/05/PGO09359.jpg
END:VEVENT
END:VCALENDAR